BEGIN:VCALENDAR
VERSION:2.0
PRODID:-//Atelier Gudrun J. Gottstein - ECPv6.15.20//NONSGML v1.0//EN
CALSCALE:GREGORIAN
METHOD:PUBLISH
X-WR-CALNAME:Atelier Gudrun J. Gottstein
X-ORIGINAL-URL:https://atelier-gottstein.de
X-WR-CALDESC:Veranstaltungen für Atelier Gudrun J. Gottstein
REFRESH-INTERVAL;VALUE=DURATION:PT1H
X-Robots-Tag:noindex
X-PUBLISHED-TTL:PT1H
BEGIN:VTIMEZONE
TZID:UTC
BEGIN:STANDARD
TZOFFSETFROM:+0000
TZOFFSETTO:+0000
TZNAME:UTC
DTSTART:20150101T000000
END:STANDARD
END:VTIMEZONE
BEGIN:VEVENT
DTSTART;VALUE=DATE:20180131
DTEND;VALUE=DATE:20180201
DTSTAMP:20260421T104446
CREATED:20171106T163529Z
LAST-MODIFIED:20171106T163529Z
UID:1031-1517356800-1517443199@atelier-gottstein.de
SUMMARY:Einzelausstellung "Bewegung!" - Galerie Haus am Römer\, Lampertheim
DESCRIPTION:Vom 15.11.2017 bis 31.01.2018 zeigt Gudrun J. Gottstein ihre Werke zum Motto „Bewegung!“ in der Galerie Haus am Römer in Lampertheim. \nZur Vernissage am Mittwoch\, 15.11.2017 von 18:00 Uhr bis 20:00 Uhr sind alle Kunstinteressierten herzlich eingeladen. Die Ausstellungseröffnung wird musikalisch begleitet von der Gruppe „Sabício & friends“. Einführende Worte in die Thematik der Ausstellung spricht Sabine Gottstein\, Tochter der Künstlerin. \nGudrun J. Gottstein begann im Jahr 2013 ihr interaktives Kunstprojekt „Mit fremden Augen“ bei dem fremde Reisende Motive aus aller Welt beisteuern. Dabei interessieren Gottstein vor allem Bewegung\, Zufallsbegegnungen\, Blickkontakte\, Gesten und Körperhaltung von Menschen. Motive aus Europa aber auch aus Indien\, Korea\, Senegal\, den Vereinigten Staaten und Argentinien erreichten die Künstlerin. „Bewegung spielt eine zentrale Rolle in meinen verarbeiteten Bildern.“\, so die Künstlerin\, die sich sogar dynamischen Szenen des Unterwasser-Rugbys malerisch widmet. \nGudrun Gottsteins Gemälde sind bei aller Gegenständlichkeit herausfordernde Bilder. Ihr zentrales Thema passt gut zum ebenfalls dynamischen Malstil mit seinem groben und expressiven Duktus. Ihre Bilder erlauben dem Betrachter nicht umstandslos den Inhalt schnell und unkompliziert festzustellen. Die starke Farbigkeit nimmt einen ganzen Raum ein und fordert förmlich Beachtung. Es sind Bilder\, die gelesen werden wollen und es braucht Beobachtungsgabe\, das Miterleben im Geiste der gezeigten Situationen und zuweilen auch die Auseinandersetzung mit wahren Wimmelbildern. \nDie Malerin aus dem hessischen Babenhausen lernte Malerei bei Elisabeth Dering\, Anton Bruder und Bruno Supernok. Zahlreiche Ausstellungen haben sie überregional bekannt gemacht. \nDie Ausstellung in der Galerie im Haus am Römer\, Domgasse 2 in 68623 Lampertheim kann während der gesamten Öffnungszeit des Hauses am Römer besichtigt werden: \nMo.-Fr. : 7:30 – 12:00 Uhr\nMo.\, Di.\, Mi.: 14:00 – 16:00 Uhr\nDo.: 14:00 – 17:30 Uhr
URL:https://atelier-gottstein.de/event/einzelausstellung-bewegung-galerie-haus-am-roemer-lampertheim/
CATEGORIES:Ausstellung,Einzelausstellung
END:VEVENT
BEGIN:VEVENT
DTSTART;TZID=UTC:20170428T080000
DTEND;TZID=UTC:20170514T170000
DTSTAMP:20260421T104446
CREATED:20170409T120811Z
LAST-MODIFIED:20170409T120811Z
UID:1025-1493366400-1494781200@atelier-gottstein.de
SUMMARY:Einzelausstellung "ZUR WELT KOMMEN"
DESCRIPTION:„ZUR WELT KOMMEN“ Einzelausstellung in der Galerie im Hofgut\, Reinheim\n28.04.2017 bis 14.05.2017 \nEröffnung: Freitag 28.04.2017\, 20:00 Uhr\n \nGudrun J. Gottstein begann im Jahr 2013 ihr interaktives Kunstprojekt „Mit fremden Augen“ bei dem fremde Reisende Motive aus aller Welt beisteuern. Dabei interessieren die Künstlerin vor allem Zufallsbegegnungen\, Blickkontakte\, Gesten und Körperhaltung von Menschen. Motive aus Europa aber auch aus Indien\, Korea\, Senegal\, den Vereinigten Staaten und Argentinien erreichten die Künstlerin\, die dadurch „zur Welt gekommen“ ist. \nDurch die Auswahl von Bildausschnitten\, die vorher nicht im Mittelpunkt des Fotomotivs standen\, deren künstlerische Interpretation\, ruppigen Duktus und starke Farbigkeit werden die Motive transformiert und eine eigene (Bild-)Welt erzeugt\, die neben der durch Fotografie tradierten Realität existiert. Zu dieser Welt kommen die Besucher der Ausstellung. \n‚ZUR-WELT-KOMMEN‘ als Motto der Ausstellung bezieht sich dabei aber nicht nur auf diesen kommunikativen Aspekt\, der Überlieferung von (Bild-)Welten. Sie möchte auch das Bewusstsein dafür schärfen\, in der Welt angekommen zu sein\, achtsam und gestaltend daran teilzunehmen.
URL:https://atelier-gottstein.de/event/einzelausstellung-zur-welt-kommen/
LOCATION:Galerie im Hofgut Reinheim\, Kirchstraße 24\, Reinheim\, 64354\, Deutschland
CATEGORIES:Ausstellung,Einzelausstellung
END:VEVENT
BEGIN:VEVENT
DTSTART;TZID=UTC:20170306T080000
DTEND;TZID=UTC:20170428T170000
DTSTAMP:20260421T104446
CREATED:20170409T121039Z
LAST-MODIFIED:20170409T121047Z
UID:1027-1488787200-1493398800@atelier-gottstein.de
SUMMARY:Wiedererkennen - Einzelausstellung
DESCRIPTION:„Wiedererkennen“ heißt das Motto der Ausstellung in der Rathausgalerie Höchst\, die dort vom 6. März bis 28. April 2017 zu sehen ist. Die Werke von Gudrun J. Gottstein zeigen vertraute Alltagsszenen in denen sich der Betrachter wiederfinden und wiedererkennen kann- ob das Motiv nun Szenen in Seoul oder in Frankfurt zeigt. Gudrun J. Gottstein zeigt damit behutsam aber nachdrücklich die kulturübergreifenden „Menschlichkeiten“ deren Wiedererkennen eine Voraussetzung für Toleranz und friedliches Miteinander sind. \nDie Ausstellung ist montags bis freitags von 8:00 bis 12:00\, dienstags von 14:00 bis 17:00 und donnerstags von 14:00 bis 18:00 zu besichtigen. Höchst im Odenwald: Rathausgalerie der Gemeinde Höchst im Odenwald\, Montmelianer Platz 4\, 64739 Höchst i.Odw.
URL:https://atelier-gottstein.de/event/wiedererkennen-einzelausstellung/
LOCATION:Ratshausgalerie Höchst i. Odw\, Montmelianer Platz 4\, Höchst im Odenwald\, Deutschland
CATEGORIES:Ausstellung,Einzelausstellung
END:VEVENT
BEGIN:VEVENT
DTSTART;TZID=UTC:20160229T080000
DTEND;TZID=UTC:20160610T170000
DTSTAMP:20260421T104446
CREATED:20160217T110404Z
LAST-MODIFIED:20160217T110404Z
UID:997-1456732800-1465578000@atelier-gottstein.de
SUMMARY:Interkulturell? - Menschlich!
DESCRIPTION:Interkulturell und Menschlich \nDie Deutsche Universität für Verwaltungswissenschaften in Speyer ist vom 29.02.2016 bis 10.06.2016 Gastgeberin einer Kunstausstellung. Die hessische Künstlerin Gudrun J. Gottstein zeigt Gemälde zum Thema „Interkulturell? Menschlich!“\, die während ihres Kunstprojekts entstanden sind. \n  \n \nDer Anlass der Ausstellung „Interkulturell? Menschlich!“ ist der dritte Jahrestag des interaktiven Kunstprojekts der Künstlerin Gudrun J. Gottstein. Im Jahr 2013 forderte sie im Internet dazu auf\, Reisefotos als Motiv zur Verfügung zu stellen. Seitdem waren Menschen unterwegs und haben der Künstlerin ihre Reisebilder mitgebracht: Menschen in aller Welt. Mittlerweile gingen auf diese Weise hunderte von Motiven bei der Künstlerin ein\, die einen Teil davon zu Ölgemälden verarbeitete. Diese zeigen Episoden aus den Wegen der Menschen\, denen man auf Reisen zufällig begegnet\, Situationen\, die passieren. Durch die Betrachtung der Bilder werden wiederum deren Wege geteilt\, die Geschichten weitererzählt\, Erlebtes fremder Menschen durch das Betrachten der Bilder gewürdigt. „Letztlich“\, so die Künstlerin\, „begegnen sich ja immer Menschen\, nicht die Kulturen\, die uns zum Teil so verschieden machen. Meine Bilder in der weltoffenen DUV präsentieren zu dürfen in diesem wunderbaren Gebäude von Sep Ruf ist mir eine große Freude!“ \n  \nGudrun J. Gottstein\, geboren 1949\, lernte Malerei bei Elisabeth Dering\, Anton Bruder und Bruno Supernok. Seit 1968 bestreitet sie zahlreiche Ausstellungen. Bilder aus aller Welt und modernes Tanztheater sind ihre motivischen Leidenschaften\, die sie mit kraftvollem Pinselduktus in ihren expressiv-gegenständlichen und oft starkfarbigen Bildern umsetzt. Die selbst in der Ruhe inhärente Bewegung des menschlichen Körpers uns seine Position im Raum rückt dabei in den Fokus ihrer Malerei. Oft finden sich zeichnerische Bestandteile\, die Linie in der Kontur wird selbständiges Stilmittel\, die Perspektive spielt mit Vorder- und Hintergrund. Beobachtungs- und Erlebnisfetzen kommen damit in zum Teil recht ruppigem Stil entgegen\, stellenweise ist\, gleichsam wie Erinnerungslücken an Erlebtes\, die Leinwand zu sehen oder auch der Anriss mit Pastellkreiden. \nGudrun Gottsteins Gemälde sind herausfordernde Bilder\, da sie sich eben nicht in die Abstraktion entziehen und dennoch dem Betrachter nicht umstandslos erlauben\, den Inhalt schnell und unkompliziert festzustellen. Die starke Farbigkeit nimmt einen ganzen Raum ein\, fordert förmlich Beachtung. Es sind Bilder\, die betrachtet und gelesen werden wollen und müssen und es braucht Beobachtungsgabe\, das Miterleben im Geiste der gezeigten Situationen\, Auseinandersetzung mit Wimmelbildern und Massenszenen. \n  \nDie Ausstellung ist bis zum 10.06.2016 zu den Öffnungszeiten der Deutschen Universität für Verwaltungswissenschaften Speyer\, Freiherr-vom-Stein-Str. 2 in 67346 Speyer zu besichtigen.
URL:https://atelier-gottstein.de/event/interkulturell-menschlich/
END:VEVENT
BEGIN:VEVENT
DTSTART;TZID=UTC:20160212T200000
DTEND;TZID=UTC:20160228T160000
DTSTAMP:20260421T104446
CREATED:20160210T180422Z
LAST-MODIFIED:20160210T180422Z
UID:988-1455307200-1456675200@atelier-gottstein.de
SUMMARY:“KOPF HOCH!“ Ausstellung im Hofgut Reinheim
DESCRIPTION:Wann? 12.02.2016 20:00 Uhr bis 28.02.2016 18:00 Uhr\nWo? Galerie im Hofgut\, Kirchstraße 24\, 64354 Reinheim\nReinheim: Galerie im Hofgut | Am Freitag\, 12.02.2016 wird um 20:00 Uhr in der Galerie des Hofguts Reinheim die Gemeinschaftsausstellung „Kopf Hoch“ eröffnet. Es begrüßt Herr Bürgermeister Karl Hartmann. \nDas Motto wurde den Künstlern zur freien Bearbeitung vorgegeben und der Besucher kann gespannt sein\, wie das Thema behandelt werden wird. Geht es ums Mutmachen und Trostspenden\, oder um die generelle Aufforderung das Leben bewusst und mit erhobenem Haupt wahrzunehmen\, sich nicht hinter elektronischen Unterhaltungs- und Kommunikationsmitteln zu verstecken? Oder wird eine pervertiert-leistungsorientierte Gesellschaft kritisiert\, in der alle\, die sich nicht rücksichtslos nach oben kämpfen „unters Rad“ kommen?\nSo unterschiedlich die Auseinandersetzung mit Motiv und Thema ausfallen wird\, so verschieden sind auch die Stile und Techniken der beteiligten Künstlerinnen und Künstler. Der Besucher der Ausstellung kann sich auf eine vom Kulturkreis Reinheim abwechslungsreich arrangierte Ausstellung freuen. Diesmal bestückt mit Werken von Sigrid Awizio\, Lothar Bergmann\, Gudrun Cornford\, Gudrun J. Gottstein\, Lucie Heirich\, Gabriela Knaut\, Gerda Nehring-Meschig\, und Erika Wörl. \nDie Ausstellung ist vom 12.02.2016 bis 28.02.2016 jeweils samstags und sonntags von 14:00 bis 18:00 Uhr zu besichtigen. Der Eintritt ist frei. An allen Öffnungstagen wird es möglich sein\, mit Künstlerinnen und Künstlern der Ausstellung ins Gespräch zu kommen. Am 28.02.2016 endet die Ausstellung mit einer Finissage ab 16:00 Uhr.
URL:https://atelier-gottstein.de/event/kopf-hoch-ausstellung-im-hofgut-reinheim/
LOCATION:Galerie im Hofgut Reinheim\, Kirchstraße 24\, Reinheim\, 64354\, Deutschland
CATEGORIES:Ausstellung
END:VEVENT
BEGIN:VEVENT
DTSTART;TZID=UTC:20160112T080000
DTEND;TZID=UTC:20160531T170000
DTSTAMP:20260421T104446
CREATED:20160210T180659Z
LAST-MODIFIED:20160210T180659Z
UID:989-1452585600-1464714000@atelier-gottstein.de
SUMMARY:„On the Move“ im Lindner Congress Hotel Frankfurt am Main
DESCRIPTION:Motive „On the Move“ im Lindner Congress Hotel Frankfurt am Main\nSo wie Menschen auf der Durchreise\, beruflich oder privat\, so zeigen sich die Bilder im Lindner Congress Hotel: Menschen in Bewegung\, für die das Unterwegssein und Ankommen im Mittelpunkt stehen. Bis Ende Mai werden die zum Teil großformatigen Bilder zu sehen sein. \nAdresse: Lindner Congress Hotel Frankfurt\, Bolongarostraße 100\, 65929 Frankfurt am Main
URL:https://atelier-gottstein.de/event/on-the-move-im-lindner-congress-hotel-frankfurt-am-main/
LOCATION:Lindner Congress Hotel\, Bolongarostraße 100\, Frankfurt am Main\, Hessen\, 65929\, Deutschland
END:VEVENT
BEGIN:VEVENT
DTSTART;VALUE=DATE:20160111
DTEND;VALUE=DATE:20160331
DTSTAMP:20260421T104446
CREATED:20160124T142757Z
LAST-MODIFIED:20160124T142757Z
UID:971-1452470400-1459382399@atelier-gottstein.de
SUMMARY:„Menschenbilder“ aus aller Welt in der K & S Seniorenresidenz Rodgau
DESCRIPTION:Die K & S Seniorenresidenz Rodgau präsentiert vom 11.01.2016 bis 30.03.2016 Bilder der Babenhäuser Künstlerin Gudrun J. Gottstein. Die Gemälde zeigen Szenen aus aller Welt\, Begegnungen und menschliches Miteinander\, die zum Erzählen eigener Geschichten anregen. \nAdresse:\nK & S Seniorenresidenz in Rodgau Nieder-Roden\, Frankfurter Str. 78\, 63110 Rodgau \nWeiterlesen
URL:https://atelier-gottstein.de/event/menschenbilder-aus-aller-welt-in-der-k-s-seniorenresidenz-rodgau/
LOCATION:K & S Seniorenresidenz\, Frankfurter Straße 78\, Rodgau Nieder-Roden\, Hessen\, 63110\, Deutschland
CATEGORIES:Ausstellung,Einzelausstellung
END:VEVENT
END:VCALENDAR